BEGIN:VCALENDAR
VERSION:2.0
PRODID:-//Plone.org//NONSGML plone.app.event//EN
X-WR-TIMEZONE:America/New_York
BEGIN:VEVENT
SUMMARY:York College Association Meeting - 10/26/23
DTSTART;TZID=US/Eastern:20231026T120000
DTEND;TZID=US/Eastern:20231026T140000
DTSTAMP:20260420T005728Z
UID:c15dd3ce06ca4ce1b78351d7ef791026@172.16.140.7:8080
CATEGORIES:College Association,Student Affairs,York College Association
CONTACT:SAEM\, 718-262-2331\, SAEM@york.cuny.edu
CREATED:20230830T162006Z
DESCRIPTION:The York College Association is a related entity of York Colle
 ge organized for the sole purpose of developing and cultivating educationa
 l\, social\, cultural\, and recreational activities among the students of 
 York College.
LAST-MODIFIED:20260326T134605Z
LOCATION:AC-2H02E
URL:http://172.16.140.7:8080/yc1/yca/minutes/20231010-meeting
END:VEVENT
BEGIN:VTIMEZONE
TZID:US/Eastern
X-LIC-LOCATION:US/Eastern
BEGIN:DAYLIGHT
DTSTART:20230312T030000
TZNAME:EDT
TZOFFSETFROM:-0500
TZOFFSETTO:-0400
END:DAYLIGHT
END:VTIMEZONE
END:VCALENDAR
