BEGIN:VCALENDAR
VERSION:2.0
PRODID:-//Plone.org//NONSGML plone.app.event//EN
X-WR-TIMEZONE:America/New_York
BEGIN:VEVENT
SUMMARY:Foreign Languages Open House
DTSTART;TZID=America/New_York:20101202T153000
DTEND;TZID=America/New_York:20101202T170000
DTSTAMP:20260420T004708Z
UID:058a7117f88214054c82a36b18135999@172.16.140.7:8080
CATEGORIES:World Languages\, Literatures\, and Humanities
CONTACT:Organizing Committee\, 718-262-2430
CREATED:20101119T194716Z
DESCRIPTION:Come and enjoy our 2010 Open House dedicate to our students. 
LAST-MODIFIED:20231208T163111Z
LOCATION:Room: 3C08
URL:https://www.york.cuny.edu/world-languages-literatures-humanities/open-
 house
END:VEVENT
BEGIN:VTIMEZONE
TZID:America/New_York
X-LIC-LOCATION:America/New_York
BEGIN:STANDARD
DTSTART:20101107T010000
TZNAME:EST
TZOFFSETFROM:-0400
TZOFFSETTO:-0500
END:STANDARD
END:VTIMEZONE
END:VCALENDAR
