BEGIN:VCALENDAR
VERSION:2.0
PRODID:-//Plone.org//NONSGML plone.app.event//EN
X-WR-TIMEZONE:America/New_York
BEGIN:VEVENT
SUMMARY:Safe Zone Training - Sept 16
DTSTART;TZID=America/New_York:20250916T120000
DTEND;TZID=America/New_York:20250916T140000
DTSTAMP:20260421T211803Z
UID:3810c4c13ee446bab23256d219737f21@172.16.140.7:8080
CATEGORIES:Student Affairs,Women Center,ds
CONTACT:Nichole Acevedo\, 718-262-2941\, nacevedo@york.cuny.edu\, https://
 yorkcuny.iad1.qualtrics.com/jfe/form/SV_erlLGeBZEMPJZpY
CREATED:20250805T202335Z
DESCRIPTION:Fall 2025 workshops available for students\, faculty\, and sta
 ff to attend!
LAST-MODIFIED:20250806T161145Z
LOCATION:AC-2M04
URL:https://www.york.cuny.edu/womens-center/safe-zone-training
END:VEVENT
BEGIN:VTIMEZONE
TZID:America/New_York
X-LIC-LOCATION:America/New_York
BEGIN:DAYLIGHT
DTSTART:20250309T030000
TZNAME:EDT
TZOFFSETFROM:-0500
TZOFFSETTO:-0400
END:DAYLIGHT
END:VTIMEZONE
END:VCALENDAR
