BEGIN:VCALENDAR
VERSION:2.0
PRODID:-//Plone.org//NONSGML plone.app.event//EN
X-WR-TIMEZONE:America/New_York
BEGIN:VEVENT
SUMMARY:Safe Zone Training - Nov 4
DTSTART;TZID=America/New_York:20251104T160000
DTEND;TZID=America/New_York:20251104T180000
DTSTAMP:20260424T004531Z
UID:dfac89ec44f94d88992f605f1768735f@172.16.140.7:8080
CATEGORIES:Student Affairs,Women Center,ds
CONTACT:Nichole Acevedo\, 718-262-2941\, nacevedo@york.cuny.edu\, https://
 yorkcuny.iad1.qualtrics.com/jfe/form/SV_erlLGeBZEMPJZpY
CREATED:20250805T202743Z
DESCRIPTION:Fall 2025 workshops available for students\, faculty\, and sta
 ff to attend!
LAST-MODIFIED:20250806T161236Z
LOCATION:AC-2M04
URL:https://www.york.cuny.edu/womens-center/safe-zone-training-1
END:VEVENT
BEGIN:VTIMEZONE
TZID:America/New_York
X-LIC-LOCATION:America/New_York
BEGIN:STANDARD
DTSTART:20251102T010000
TZNAME:EST
TZOFFSETFROM:-0400
TZOFFSETTO:-0500
END:STANDARD
END:VTIMEZONE
END:VCALENDAR
