BEGIN:VCALENDAR
VERSION:2.0
PRODID:-//Plone.org//NONSGML plone.app.event//EN
X-WR-TIMEZONE:America/New_York
BEGIN:VEVENT
SUMMARY:Mother's Day Mingle at York College
DTSTART;TZID=America/New_York:20250507T170000
DTEND;TZID=America/New_York:20250507T190000
DTSTAMP:20260421T091558Z
UID:fc8000a9ad53432daf9c77e93feeddce@172.16.140.7:8080
CATEGORIES:Student Affairs,Women Center,ds
CONTACT:Nichole Acevedo\, 718-262-2941\, nacevedo@york.cuny.edu\, https://
 yorkcuny.iad1.qualtrics.com/jfe/form/SV_23T12wqX6tmfXX8
CREATED:20250430T205127Z
DESCRIPTION:An opportunity for student mothers to connect\, unwind\, and a
 ccess valuable resources to help them navigate their academic journey whil
 e being a parent at York College. 
LAST-MODIFIED:20250501T122551Z
LOCATION:AC-1G06
URL:https://www.york.cuny.edu/womens-center/mothers-day-mingle-2025
END:VEVENT
BEGIN:VTIMEZONE
TZID:America/New_York
X-LIC-LOCATION:America/New_York
BEGIN:DAYLIGHT
DTSTART:20250309T030000
TZNAME:EDT
TZOFFSETFROM:-0500
TZOFFSETTO:-0400
END:DAYLIGHT
END:VTIMEZONE
END:VCALENDAR
