BEGIN:VCALENDAR
VERSION:2.0
PRODID:-//Plone.org//NONSGML plone.app.event//EN
X-WR-TIMEZONE:America/New_York
BEGIN:VEVENT
SUMMARY:Fresh Produce Day - Feb 5th
DTSTART;TZID=America/New_York:20260205T123000
DTEND;TZID=America/New_York:20260205T140000
DTSTAMP:20260421T125037Z
UID:928e2a595bc04546911e31aadce01404@172.16.140.7:8080
CATEGORIES:ds,women's center,women center,Women Center – Right,student a
 ffairs,student development
CONTACT:Nichole Acevedo\, 718-262-2941\, nacevedo@york.cuny.edu
CREATED:20260128T194817Z
DESCRIPTION:Free Fruits and Vegetables for York College Students
LAST-MODIFIED:20260128T213703Z
LOCATION:3rd Floor Atrium
URL:https://www.york.cuny.edu/womens-center/fresh-produce-day-feb-5th
END:VEVENT
BEGIN:VTIMEZONE
TZID:America/New_York
X-LIC-LOCATION:America/New_York
BEGIN:STANDARD
DTSTART:20251102T010000
TZNAME:EST
TZOFFSETFROM:-0400
TZOFFSETTO:-0500
END:STANDARD
END:VTIMEZONE
END:VCALENDAR
