BEGIN:VCALENDAR
VERSION:2.0
PRODID:-//Plone.org//NONSGML plone.app.event//EN
X-WR-TIMEZONE:America/New_York
BEGIN:VEVENT
SUMMARY:Fresh Food Bag Program
DTSTART:20240208T173000Z
DTEND:20240208T190000Z
DTSTAMP:20260420T065930Z
UID:7b3d984aaf4443cbb09eeb157466a83d@172.16.140.7:8080
CATEGORIES:Women Center,ds
CONTACT:Nichole Acevedo\, 718-262-2941\, nacevedo@york.cuny.edu
CREATED:20240119T171545Z
DESCRIPTION:Seasonal fruits\, veggies\, eggs\, and bread are available for
  the York student community. 
LAST-MODIFIED:20240216T155923Z
URL:https://www.york.cuny.edu/womens-center/fresh-food-bag-program
END:VEVENT
END:VCALENDAR
