BEGIN:VCALENDAR
VERSION:2.0
PRODID:-//Plone.org//NONSGML plone.app.event//EN
X-WR-TIMEZONE:America/New_York
BEGIN:VEVENT
SUMMARY:Painting with Purpose: Create and Connect
DTSTART;TZID=America/New_York:20251015T110000
DTEND;TZID=America/New_York:20251015T164500
DTSTAMP:20260421T061420Z
UID:43917b4734084cbf83c067cea79a9fbe@172.16.140.7:8080
CATEGORIES:ds,Veterans Affairs
CONTACT:Savitrie Rampersaud\, 718-262-2152\, srampersaud3@york.cuny.edu
CREATED:20251001T192517Z
DESCRIPTION:Unwind and express yourself through art. This creative session
  offers a chance to paint\, relax\, and connect with other veterans. No ex
 perience needed—just bring your energy and enjoy the moment.
LAST-MODIFIED:20251002T165640Z
LOCATION:AC-2F01c
URL:https://www.york.cuny.edu/veterans-affairs/events/painting-with-purpos
 e-create-and-connect
END:VEVENT
BEGIN:VTIMEZONE
TZID:America/New_York
X-LIC-LOCATION:America/New_York
BEGIN:DAYLIGHT
DTSTART:20250309T030000
TZNAME:EDT
TZOFFSETFROM:-0500
TZOFFSETTO:-0400
END:DAYLIGHT
END:VTIMEZONE
END:VCALENDAR
