BEGIN:VCALENDAR
VERSION:2.0
PRODID:-//Plone.org//NONSGML plone.app.event//EN
X-WR-TIMEZONE:America/New_York
BEGIN:VEVENT
SUMMARY:Field Trip to Regeneron
DTSTART;TZID=US/Eastern:20230512T100000
DTEND;TZID=US/Eastern:20230512T143000
DTSTAMP:20260421T143044Z
UID:7640fcee2eca445393f2f5ba94aa1639@172.16.140.7:8080
CREATED:20230711T183353Z
DESCRIPTION:Witness firsthand medicinal research and pharmaceutical manufa
 cturing.
LAST-MODIFIED:20230711T185938Z
URL:https://www.york.cuny.edu/undergraduate-research/calendar/field-trip-t
 o-regeneron
END:VEVENT
BEGIN:VTIMEZONE
TZID:US/Eastern
X-LIC-LOCATION:US/Eastern
BEGIN:DAYLIGHT
DTSTART:20230312T030000
TZNAME:EDT
TZOFFSETFROM:-0500
TZOFFSETTO:-0400
END:DAYLIGHT
END:VTIMEZONE
END:VCALENDAR
