BEGIN:VCALENDAR
VERSION:2.0
PRODID:-//Plone.org//NONSGML plone.app.event//EN
X-WR-TIMEZONE:America/New_York
BEGIN:VEVENT
SUMMARY:Tutor.com Ice Cream Social
DTSTART:20241015T170000Z
DTEND:20241015T180000Z
DTSTAMP:20260420T135735Z
UID:3794a5aadc8c42d189557a2a9f6d32ee@172.16.140.7:8080
CATEGORIES:Student Affairs,ds
CREATED:20241009T175131Z
DESCRIPTION:Students\, show proof of a Tutor.com session (just a screensho
 t) and grab your free ice cream!  While supplies last—be among the first
 !
LAST-MODIFIED:20250821T175206Z
LOCATION:AC-1C18
URL:https://www.york.cuny.edu/student-affairs/tutor-com-ice-cream-social
END:VEVENT
END:VCALENDAR
