BEGIN:VCALENDAR
VERSION:2.0
PRODID:-//Plone.org//NONSGML plone.app.event//EN
X-WR-TIMEZONE:America/New_York
BEGIN:VEVENT
SUMMARY:ThinkFast Trivia
DTSTART;TZID=US/Eastern:20230914T120000
DTEND;TZID=US/Eastern:20230914T140000
DTSTAMP:20260421T232731Z
UID:cf985427192e4bb484f465afbf26db47@172.16.140.7:8080
CATEGORIES:Student Affairs,ds
CONTACT:Shayla Pruitt\, 718-262-5161\, spruitt@york.cuny.edu
CREATED:20230908T185503Z
DESCRIPTION:Join the York College community and test your knowledge in thi
 s ultimate trivia game. Students have the chance to compete to win cash an
 d prizes!\n
LAST-MODIFIED:20250821T175205Z
LOCATION:Academic Core Atrium
URL:https://www.york.cuny.edu/student-affairs/thinkfast-trivia
END:VEVENT
BEGIN:VTIMEZONE
TZID:US/Eastern
X-LIC-LOCATION:US/Eastern
BEGIN:DAYLIGHT
DTSTART:20230312T030000
TZNAME:EDT
TZOFFSETFROM:-0500
TZOFFSETTO:-0400
END:DAYLIGHT
END:VTIMEZONE
END:VCALENDAR
