BEGIN:VCALENDAR
VERSION:2.0
PRODID:-//Plone.org//NONSGML plone.app.event//EN
X-WR-TIMEZONE:America/New_York
BEGIN:VEVENT
SUMMARY:So You Want to be a Nurse?
DTSTART;TZID=US/Eastern:20231012T130000
DTEND;TZID=US/Eastern:20231012T140000
DTSTAMP:20260421T145330Z
UID:8f97d6429481409ca82fe0aea35afdcf@172.16.140.7:8080
CATEGORIES:Student Success Sessions,Student Affairs
CONTACT:First-Year Experience & Mentoring\, 718-262-5161\, fye@york.cuny.e
 du
CREATED:20230825T142504Z
DESCRIPTION:What does it mean to be a registered nurse?  In this interacti
 ve session\, students will receive a comprehensive overview about the prof
 ession\, the academic curriculum and learn about the exciting opportunitie
 s associated with being a York College nursing student.
LAST-MODIFIED:20250821T175156Z
LOCATION:AC-2M04
URL:https://www.york.cuny.edu/student-affairs/so-you-want-to-be-a-nurse-1
END:VEVENT
BEGIN:VTIMEZONE
TZID:US/Eastern
X-LIC-LOCATION:US/Eastern
BEGIN:DAYLIGHT
DTSTART:20230312T030000
TZNAME:EDT
TZOFFSETFROM:-0500
TZOFFSETTO:-0400
END:DAYLIGHT
END:VTIMEZONE
END:VCALENDAR
