BEGIN:VCALENDAR
VERSION:2.0
PRODID:-//Plone.org//NONSGML plone.app.event//EN
X-WR-TIMEZONE:America/New_York
BEGIN:VEVENT
SUMMARY:Pop Up Enrollment (Thursdays)
DTSTART;TZID=America/New_York:20250605T150000
DTEND;TZID=America/New_York:20250605T170000
DTSTAMP:20260421T002225Z
UID:0305f1844e2f4e04a54e52d52e222857@172.16.140.7:8080
RRULE:FREQ=DAILY;UNTIL=20250605T210000Z;INTERVAL=1;WKST=MO
RDATE;TZID=America/New_York:20250613T000000,20250627T000000,20250704T00000
 0,20250711T000000,20250718T000000,20250725T000000,20250801T000000
CATEGORIES:ds,Pop Up Enrollment Days
CONTACT:https://cunyyork.askadmissions.net/Portal/EI/GroupUrl?gid=530459a1
 51a1327f974f9d9fe8692d78f0c616
CREATED:20250604T195854Z
DESCRIPTION:Join us for our Pop Up Enrollment Days and get enrolled hassle
 -free.
LAST-MODIFIED:20250821T175206Z
LOCATION:Welcome Center\, Academic Core Building\, Second Floor
URL:https://www.york.cuny.edu/student-affairs/pop-up-enrollment-days-thurs
 day
END:VEVENT
BEGIN:VTIMEZONE
TZID:America/New_York
X-LIC-LOCATION:America/New_York
BEGIN:DAYLIGHT
DTSTART:20250309T030000
TZNAME:EDT
TZOFFSETFROM:-0500
TZOFFSETTO:-0400
END:DAYLIGHT
END:VTIMEZONE
END:VCALENDAR
