BEGIN:VCALENDAR
VERSION:2.0
PRODID:-//Plone.org//NONSGML plone.app.event//EN
X-WR-TIMEZONE:America/New_York
BEGIN:VEVENT
SUMMARY:Job Interview Prep
DTSTART;TZID=US/Eastern:20231012T120000
DTEND;TZID=US/Eastern:20231012T133000
DTSTAMP:20260422T025502Z
UID:2d053146948f432a98c311a600df7955@172.16.140.7:8080
CATEGORIES:Student Success Sessions,Student Affairs
CONTACT:First-Year Experience & Mentoring\, 718-262-5161\, fye@york.cuny.e
 du
CREATED:20230825T170652Z
DESCRIPTION:Company recruiters are tasked with interviewing candidates to 
 fill positions. Are you ready to meet a recruiter for an internship or job
 ? Join Richard V. Blake\, College Recruiter for Geico\, and learn how to p
 repare for an interview\, what to expect and how to answer important inter
 view questions.
LAST-MODIFIED:20250821T175155Z
LOCATION:Room AC-2M05
URL:https://www.york.cuny.edu/student-affairs/job-interview-prep
END:VEVENT
BEGIN:VTIMEZONE
TZID:US/Eastern
X-LIC-LOCATION:US/Eastern
BEGIN:DAYLIGHT
DTSTART:20230312T030000
TZNAME:EDT
TZOFFSETFROM:-0500
TZOFFSETTO:-0400
END:DAYLIGHT
END:VTIMEZONE
END:VCALENDAR
