BEGIN:VCALENDAR
VERSION:2.0
PRODID:-//Plone.org//NONSGML plone.app.event//EN
X-WR-TIMEZONE:America/New_York
BEGIN:VEVENT
SUMMARY:Graduate School Planning
DTSTART;TZID=US/Eastern:20231205T120000
DTEND;TZID=US/Eastern:20231205T133000
DTSTAMP:20260420T111214Z
UID:09bd31d8c591440aa764140b0047b63b@172.16.140.7:8080
CATEGORIES:Student Affairs,ds,Student Success Sessions
CONTACT:First-Year Experience & Mentoring\, 718-262-5161\, fye@york.cuny.e
 du
CREATED:20230825T171739Z
DESCRIPTION:In this workshop\, you will learn how to effectively plan and 
 prepare for a successful transition to graduate school. All freshmen\, sop
 homores\, juniors\, and seniors are welcome to attend.
LAST-MODIFIED:20250821T175154Z
LOCATION:Room AC-2M05
URL:https://www.york.cuny.edu/student-affairs/graduate-school-planning
END:VEVENT
BEGIN:VTIMEZONE
TZID:US/Eastern
X-LIC-LOCATION:US/Eastern
BEGIN:STANDARD
DTSTART:20231105T010000
TZNAME:EST
TZOFFSETFROM:-0400
TZOFFSETTO:-0500
END:STANDARD
END:VTIMEZONE
END:VCALENDAR
