BEGIN:VCALENDAR
VERSION:2.0
PRODID:-//Plone.org//NONSGML plone.app.event//EN
X-WR-TIMEZONE:America/New_York
BEGIN:VEVENT
SUMMARY:Financial Literacy Event
DTSTART:20240111T170000Z
DTEND:20240111T183000Z
DTSTAMP:20260420T125444Z
UID:29d51a5361e3488cb3e1b9307bdc1058@172.16.140.7:8080
ATTENDEE;CN=Students;ROLE=REQ-PARTICIPANT:Students
CATEGORIES:Student Affairs,Enrollment Management,Financial Aid,ds
CONTACT:Welcome Center\, 718-262-2708\, welcomecenter@york.cuny.edu
CREATED:20240103T214144Z
DESCRIPTION:The first program will focus on the new FAFSA application and 
 how FAFSA change﻿s will impact you in 2024-25. 
LAST-MODIFIED:20250821T175150Z
LOCATION:Academic Core Atrium
URL:https://www.york.cuny.edu/student-affairs/financial-literacy-event
END:VEVENT
END:VCALENDAR
