BEGIN:VCALENDAR
VERSION:2.0
PRODID:-//Plone.org//NONSGML plone.app.event//EN
X-WR-TIMEZONE:America/New_York
BEGIN:VEVENT
SUMMARY:Financial Aid Check-Up Day
DTSTART;TZID=America/New_York:20250709T100000
DTEND;TZID=America/New_York:20250709T150000
DTSTAMP:20260421T015622Z
UID:cae40bb63dbc4470aeacd0f1980f97ee@172.16.140.7:8080
CATEGORIES:Student Affairs,Enrollment Management,Financial Aid,ds
CONTACT:Financial Aid\, finaid@york.cuny.edu
CREATED:20250702T152315Z
DESCRIPTION:Join the Financial Aid Check-Up Day to review your financial a
 id status for the 2025–2026 academic year. This event is open to all stu
 dents\, whether you've already filed your FAFSA or not. 
LAST-MODIFIED:20250821T175206Z
LOCATION:Academic Core Building\, Guy R. Brewer Entrance.   (Second Floor 
 next to the Welcome Center)
URL:https://www.york.cuny.edu/student-affairs/financial-aid-check-up-day
END:VEVENT
BEGIN:VTIMEZONE
TZID:America/New_York
X-LIC-LOCATION:America/New_York
BEGIN:DAYLIGHT
DTSTART:20250309T030000
TZNAME:EDT
TZOFFSETFROM:-0500
TZOFFSETTO:-0400
END:DAYLIGHT
END:VTIMEZONE
END:VCALENDAR
