BEGIN:VCALENDAR
VERSION:2.0
PRODID:-//Plone.org//NONSGML plone.app.event//EN
X-WR-TIMEZONE:America/New_York
BEGIN:VEVENT
SUMMARY:Exploring Your Career Options
DTSTART;TZID=US/Eastern:20230907T120000
DTEND;TZID=US/Eastern:20230907T133000
DTSTAMP:20260419T151722Z
UID:e9dc6fe1ed444063b3fda3759e85eebf@172.16.140.7:8080
CATEGORIES:Student Success Sessions,Student Affairs
CONTACT:First-Year Experience & Mentoring\, 718-262-5161\, fye@york.cuny.e
 du
CREATED:20230825T161825Z
DESCRIPTION:In this workshop\, we will discuss the difference between a jo
 b and a career\, how to assess career interests using a career inventory a
 ssessment\, and how to research career fields/sectors (salaries\, skills\,
  duties\, education\, employment outlook\, etc.).
LAST-MODIFIED:20250821T175150Z
LOCATION:Room AC-2M05
URL:https://www.york.cuny.edu/student-affairs/exploring-your-career-option
 s
END:VEVENT
BEGIN:VTIMEZONE
TZID:US/Eastern
X-LIC-LOCATION:US/Eastern
BEGIN:DAYLIGHT
DTSTART:20230312T030000
TZNAME:EDT
TZOFFSETFROM:-0500
TZOFFSETTO:-0400
END:DAYLIGHT
END:VTIMEZONE
END:VCALENDAR
