BEGIN:VCALENDAR
VERSION:2.0
PRODID:-//Plone.org//NONSGML plone.app.event//EN
X-WR-TIMEZONE:America/New_York
BEGIN:VEVENT
SUMMARY:Division of Student Development Open House
DTSTART;TZID=US/Eastern:20140916T100000
DTEND;TZID=US/Eastern:20140916T120000
DTSTAMP:20260421T031859Z
UID:9e1039ab1f45489590724d38d39a3dfe@172.16.140.7:8080
CATEGORIES:employee featured,Student Affairs
CREATED:20140915T140352Z
DESCRIPTION:Visit the Individual Departments to Obtain Information on Serv
 ices 
LAST-MODIFIED:20250821T175150Z
LOCATION:Various
URL:https://www.york.cuny.edu/student-affairs/division-of-student-developm
 ent-open-house
END:VEVENT
BEGIN:VTIMEZONE
TZID:US/Eastern
X-LIC-LOCATION:US/Eastern
BEGIN:DAYLIGHT
DTSTART:20140309T030000
TZNAME:EDT
TZOFFSETFROM:-0500
TZOFFSETTO:-0400
END:DAYLIGHT
END:VTIMEZONE
END:VCALENDAR
