BEGIN:VCALENDAR
VERSION:2.0
PRODID:-//Plone.org//NONSGML plone.app.event//EN
X-WR-TIMEZONE:America/New_York
BEGIN:VEVENT
SUMMARY:Direct Admissions (9:30 a.m.)
DTSTART;TZID=America/New_York:20250813T093000
DTEND;TZID=America/New_York:20250813T103000
DTSTAMP:20260420T173204Z
UID:1eb7ead89c4544e6adce2e8b2850dbe5@172.16.140.7:8080
RRULE:FREQ=DAILY;UNTIL=20250813T143000Z;INTERVAL=1
RDATE;TZID=America/New_York:20250815T000000,20250819T000000,20250820T00000
 0
CONTACT:Admissions\, admissions@york.cuny.edu
CREATED:20250812T144138Z
DESCRIPTION:The York College Office of Admissions is accepting application
 s for Direct Admissions.
LAST-MODIFIED:20250821T175206Z
LOCATION:Academic Core Building\, Admissions\, Room 1B07
URL:https://www.york.cuny.edu/student-affairs/direct-admissions-9-30-a-m
END:VEVENT
BEGIN:VTIMEZONE
TZID:America/New_York
X-LIC-LOCATION:America/New_York
BEGIN:DAYLIGHT
DTSTART:20250309T030000
TZNAME:EDT
TZOFFSETFROM:-0500
TZOFFSETTO:-0400
END:DAYLIGHT
END:VTIMEZONE
END:VCALENDAR
