BEGIN:VCALENDAR
VERSION:2.0
PRODID:-//Plone.org//NONSGML plone.app.event//EN
X-WR-TIMEZONE:America/New_York
BEGIN:VEVENT
SUMMARY:Deep Dish With The Dean - 9/28
DTSTART;TZID=US/Eastern:20230928T160000
DTEND;TZID=US/Eastern:20230928T180000
DTSTAMP:20260425T152040Z
UID:1c7e8bf5208e468eabf381aad62288cf@172.16.140.7:8080
CATEGORIES:Student Affairs,ds
CONTACT:SAEM\, 718-262-2331\, SAEM@york.cuny.edu
CREATED:20230908T193001Z
DESCRIPTION:Free pizza and anime! Chop it up with Dr. George White\, Jr.\,
  Interim Dean of the School of Arts and Sciences. Be prepared to discuss: 
 What is your favorite anime? What does that say about you?
LAST-MODIFIED:20250821T175150Z
LOCATION:AC-1G06
URL:https://www.york.cuny.edu/student-affairs/deep-dish-with-the-dean
END:VEVENT
BEGIN:VTIMEZONE
TZID:US/Eastern
X-LIC-LOCATION:US/Eastern
BEGIN:DAYLIGHT
DTSTART:20230312T030000
TZNAME:EDT
TZOFFSETFROM:-0500
TZOFFSETTO:-0400
END:DAYLIGHT
END:VTIMEZONE
END:VCALENDAR
