BEGIN:VCALENDAR
VERSION:2.0
PRODID:-//Plone.org//NONSGML plone.app.event//EN
X-WR-TIMEZONE:America/New_York
BEGIN:VEVENT
SUMMARY:Cardinal Welcome- Snack and Game Days
DTSTART:20240828T160000Z
DTEND:20240828T180000Z
DTSTAMP:20260420T210151Z
UID:a2714ccb15ec48abb03dacf72bccef0f@172.16.140.7:8080
RRULE:FREQ=DAILY;UNTIL=20240828T180000Z;INTERVAL=1;WKST=MO
RDATE:20240830T000000Z,20240831T000000Z
CATEGORIES:Student Affairs,ds
CREATED:20240827T162013Z
DESCRIPTION:Welcome to the Fall 2024 semester! Meet other new students\, g
 rab snacks\, and have fun!
LAST-MODIFIED:20250821T175206Z
LOCATION:AC-Atrium
URL:https://www.york.cuny.edu/student-affairs/cardinal-welcome-snack-game-
 days
END:VEVENT
END:VCALENDAR
