BEGIN:VCALENDAR
VERSION:2.0
PRODID:-//Plone.org//NONSGML plone.app.event//EN
X-WR-TIMEZONE:America/New_York
BEGIN:VEVENT
SUMMARY:Bulking Up Your Notes
DTSTART;TZID=US/Eastern:20231010T120000
DTEND;TZID=US/Eastern:20231010T140000
DTSTAMP:20260419T131709Z
UID:85f0704c3c3e441a8f24c7ced86c4003@172.16.140.7:8080
CATEGORIES:Student Success Sessions,Student Affairs
CONTACT:First-Year Experience & Mentoring\, 718-262-5161\, fye@york.cuny.e
 du
CREATED:20230825T165949Z
DESCRIPTION:In this workshop\, students will learn the importance of note-
 taking and the various methods and strategies to take better notes.
LAST-MODIFIED:20250821T175149Z
LOCATION:Room AC-2M05
URL:https://www.york.cuny.edu/student-affairs/bulking-up-your-notes
END:VEVENT
BEGIN:VTIMEZONE
TZID:US/Eastern
X-LIC-LOCATION:US/Eastern
BEGIN:DAYLIGHT
DTSTART:20230312T030000
TZNAME:EDT
TZOFFSETFROM:-0500
TZOFFSETTO:-0400
END:DAYLIGHT
END:VTIMEZONE
END:VCALENDAR
