BEGIN:VCALENDAR
VERSION:2.0
PRODID:-//Plone.org//NONSGML plone.app.event//EN
X-WR-TIMEZONE:America/New_York
BEGIN:VEVENT
SUMMARY:MSW Virtual Information Session – Mar 13\, 2023
DTSTART;TZID=US/Eastern:20230913T180000
DTEND;TZID=US/Eastern:20230913T193000
DTSTAMP:20260420T210517Z
UID:20e47e98f4e543c2bb7c9f0d0c6366d7@172.16.140.7:8080
CATEGORIES:Social Work,MSW Information Sessions,ds,MSW,Prospective Student
CONTACT:Isabelle Hubert\, MSW\, Meeting ID: 862 5149 4073\, Passcode: 5293
 27\, msw@york.cuny.edu\, https://us02web.zoom.us/j/83386828992?pwd=NEs1WGt
 WS2lLY1BWWHZDOGxOVkZIUT09
CREATED:20230829T155625Z
DESCRIPTION:Graduate social work information sessions are available in per
 son and virtually to help you consider the critical decision and benefits 
 of pursuing your academic journey in the MSW Program at CUNY York College.
LAST-MODIFIED:20240909T203859Z
LOCATION:Zoom
URL:https://www.york.cuny.edu/social-work/msw/msw-information-sessions/msw
 -virtual-information-session-wednesday
END:VEVENT
BEGIN:VTIMEZONE
TZID:US/Eastern
X-LIC-LOCATION:US/Eastern
BEGIN:DAYLIGHT
DTSTART:20230312T030000
TZNAME:EDT
TZOFFSETFROM:-0500
TZOFFSETTO:-0400
END:DAYLIGHT
END:VTIMEZONE
END:VCALENDAR
