BEGIN:VCALENDAR
VERSION:2.0
PRODID:-//Plone.org//NONSGML plone.app.event//EN
X-WR-TIMEZONE:America/New_York
BEGIN:VEVENT
SUMMARY:MSW Scholar Weldon Lam Hosts Positive Conversations on YCradio.org
DTSTART;TZID=America/New_York:20260422T180000
DTEND;TZID=America/New_York:20260422T190000
DTSTAMP:20260422T183150Z
UID:5cea44c8a20042a39e572db9d00d8086@172.16.140.7:8080
CREATED:20230228T202353Z
LAST-MODIFIED:20240123T191229Z
URL:https://www.york.cuny.edu/social-work/msw/msw-information-sessions/msw
 -scholar-weldon-lam-hosts-positive-conversations-on-ycradioorg
END:VEVENT
BEGIN:VTIMEZONE
TZID:America/New_York
X-LIC-LOCATION:America/New_York
BEGIN:DAYLIGHT
DTSTART:20260308T030000
TZNAME:EDT
TZOFFSETFROM:-0500
TZOFFSETTO:-0400
END:DAYLIGHT
END:VTIMEZONE
END:VCALENDAR
