BEGIN:VCALENDAR
VERSION:2.0
PRODID:-//Plone.org//NONSGML plone.app.event//EN
X-WR-TIMEZONE:America/New_York
BEGIN:VEVENT
SUMMARY:MSW Program Information Session - Mar 28\, 2019
DTSTART;TZID=America/New_York:20190328T180000
DTEND;TZID=America/New_York:20190328T190000
DTSTAMP:20260419T211618Z
UID:33fe42cd423a43c8abc38bccbe761f90@172.16.140.7:8080
CATEGORIES:Social Work,Prospective Student,student,MSW Information Session
 s,MSW
CONTACT:Isabelle Hubert\, MSW\, (718) 262-2607\, ihubert@york.cuny.edu\, h
 ttps://www.york.cuny.edu/academics/departments/social-work/master-program/
 msw-information-sessions
CREATED:20190110T111635Z
DESCRIPTION:Information sessions are available in person and virtually to 
 help you consider the important decision and benefits to pursuing your MSW
  Program at CUNY York College.
LAST-MODIFIED:20240911T144943Z
LOCATION:AC-3A10 (Conference Room)
URL:https://www.york.cuny.edu/social-work/msw/msw-information-sessions/msw
 -program-information-session---thursday
END:VEVENT
BEGIN:VTIMEZONE
TZID:America/New_York
X-LIC-LOCATION:America/New_York
BEGIN:DAYLIGHT
DTSTART:20190310T030000
TZNAME:EDT
TZOFFSETFROM:-0500
TZOFFSETTO:-0400
END:DAYLIGHT
END:VTIMEZONE
END:VCALENDAR
