BEGIN:VCALENDAR
VERSION:2.0
PRODID:-//Plone.org//NONSGML plone.app.event//EN
X-WR-TIMEZONE:America/New_York
BEGIN:VEVENT
SUMMARY:SEEK Information Sessions - 12/08/23
DTSTART;TZID=America/New_York:20231208T160000
DTEND;TZID=America/New_York:20231208T170000
DTSTAMP:20260425T123403Z
UID:47091098c5374153a651cf2b6515ed7b@172.16.140.7:8080
CATEGORIES:SEEK,ds
CONTACT:718-262-2300
CREATED:20231106T174833Z
DESCRIPTION:Join our Virtual and In-Person Info Sessions to learn more abo
 ut the S.E.E.K. Program
LAST-MODIFIED:20231108T194654Z
LOCATION:Zoom
URL:https://www.york.cuny.edu/seek/information-session-12-08
END:VEVENT
BEGIN:VTIMEZONE
TZID:America/New_York
X-LIC-LOCATION:America/New_York
BEGIN:STANDARD
DTSTART:20231105T010000
TZNAME:EST
TZOFFSETFROM:-0400
TZOFFSETTO:-0500
END:STANDARD
END:VTIMEZONE
END:VCALENDAR
