BEGIN:VCALENDAR
VERSION:2.0
PRODID:-//Plone.org//NONSGML plone.app.event//EN
X-WR-TIMEZONE:America/New_York
BEGIN:VEVENT
SUMMARY:SEEK Meet
DTSTART;TZID=America/New_York:20180904T120000
DTEND;TZID=America/New_York:20180904T140000
DTSTAMP:20260419T194042Z
UID:c67dd9f9b20a4ca8a8f1adf03844abb5@172.16.140.7:8080
ATTENDEE;CN="Incoming Freshmen Cohort";ROLE=REQ-PARTICIPANT:Incoming Fresh
 men Cohort
CATEGORIES:SEEK,student
CREATED:20170726T150808Z
DESCRIPTION:Welcoming our SEEK Freshmen to their first year at York Colleg
 e. Mandatory for all new freshman and new transfer students.
LAST-MODIFIED:20240209T205907Z
LOCATION:AC-2D01
URL:https://www.york.cuny.edu/seek/events/seek-meet
END:VEVENT
BEGIN:VTIMEZONE
TZID:America/New_York
X-LIC-LOCATION:America/New_York
BEGIN:DAYLIGHT
DTSTART:20180311T030000
TZNAME:EDT
TZOFFSETFROM:-0500
TZOFFSETTO:-0400
END:DAYLIGHT
END:VTIMEZONE
END:VCALENDAR
