BEGIN:VCALENDAR
VERSION:2.0
PRODID:-//Plone.org//NONSGML plone.app.event//EN
X-WR-TIMEZONE:America/New_York
BEGIN:VEVENT
SUMMARY:SEEK Graduation Ceremony
DTSTART;TZID=America/New_York:20250513T150000
DTEND;TZID=America/New_York:20250513T180000
DTSTAMP:20260420T173255Z
UID:c5fe440422d9460fa4a28824486881cb@172.16.140.7:8080
CATEGORIES:2025,SEEK,ds,Commencement
CREATED:20250411T195335Z
DESCRIPTION:Graduation Ceremony for our Senior SEEK Scholars
LAST-MODIFIED:20250505T125532Z
LOCATION:AC-2D01
URL:https://www.york.cuny.edu/seek/events/seek-graduation-ceremony
END:VEVENT
BEGIN:VTIMEZONE
TZID:America/New_York
X-LIC-LOCATION:America/New_York
BEGIN:DAYLIGHT
DTSTART:20250309T030000
TZNAME:EDT
TZOFFSETFROM:-0500
TZOFFSETTO:-0400
END:DAYLIGHT
END:VTIMEZONE
END:VCALENDAR
