BEGIN:VCALENDAR
VERSION:2.0
PRODID:-//Plone.org//NONSGML plone.app.event//EN
X-WR-TIMEZONE:America/New_York
BEGIN:VEVENT
SUMMARY:Reading\, Writing & Math Workshops
DTSTART;TZID=America/New_York:20170905T120000
DTEND;TZID=America/New_York:20170905T135000
DTSTAMP:20260419T221828Z
UID:f82e1375984e4fcf8f1292592e75f21a@172.16.140.7:8080
RRULE:FREQ=WEEKLY;UNTIL=20171212T000000;BYDAY=TU,TH
ATTENDEE;CN="SEEK Students that have not completed their basic skills exam
 s.";ROLE=REQ-PARTICIPANT:SEEK Students that have not completed their basic
  skills exams.
CATEGORIES:SEEK,student
CONTACT:Alicia Cesar\, acesar@york.cuny.edu
CREATED:20170725T193541Z
LAST-MODIFIED:20240209T205855Z
LOCATION:Reading: AC-1C05\, Writing: AC-1C04\, Math: AC-1C03\, Math 6: AC-
 1C02
URL:https://www.york.cuny.edu/seek/events/reading-writing--math-workshops
END:VEVENT
BEGIN:VTIMEZONE
TZID:America/New_York
X-LIC-LOCATION:America/New_York
BEGIN:DAYLIGHT
DTSTART:20170312T030000
TZNAME:EDT
TZOFFSETFROM:-0500
TZOFFSETTO:-0400
END:DAYLIGHT
END:VTIMEZONE
END:VCALENDAR
