BEGIN:VCALENDAR
VERSION:2.0
PRODID:-//Plone.org//NONSGML plone.app.event//EN
X-WR-TIMEZONE:America/New_York
BEGIN:VEVENT
SUMMARY:Mo Money No problem
DTSTART;TZID=America/New_York:20180327T123000
DTEND;TZID=America/New_York:20180327T133000
DTSTAMP:20260419T203254Z
UID:28f480ebc247444cac0262b012163e30@172.16.140.7:8080
ATTENDEE;CN="SEEK students";ROLE=REQ-PARTICIPANT:SEEK students
CATEGORIES:SEEK
CONTACT:Ojuolape  Mayungbo
CREATED:20180125T194152Z
DESCRIPTION:Financial literacy workshop pertaining to managing money and m
 inimizing debt. Featuring guest speaker: William Anthony Smith.
LAST-MODIFIED:20240209T205848Z
LOCATION:AC-1E05
URL:https://www.york.cuny.edu/seek/events/mo-money-no-problem--
END:VEVENT
BEGIN:VTIMEZONE
TZID:America/New_York
X-LIC-LOCATION:America/New_York
BEGIN:DAYLIGHT
DTSTART:20180311T030000
TZNAME:EDT
TZOFFSETFROM:-0500
TZOFFSETTO:-0400
END:DAYLIGHT
END:VTIMEZONE
END:VCALENDAR
