BEGIN:VCALENDAR
VERSION:2.0
PRODID:-//Plone.org//NONSGML plone.app.event//EN
X-WR-TIMEZONE:America/New_York
BEGIN:VEVENT
SUMMARY:SEEK Math 5 Workshops
DTSTART;TZID=America/New_York:20180206T120000
DTEND;TZID=America/New_York:20180206T140000
DTSTAMP:20260421T203519Z
UID:ced1c5d099d144cfa6f6abd3060bd938@172.16.140.7:8080
RRULE:FREQ=WEEKLY;UNTIL=20180515T000000;BYDAY=TU,TH
EXDATE;TZID=America/New_York:20180207T000000,20180209T000000,20180210T0000
 00,20180211T000000,20180212T000000
ATTENDEE;CN="SEEK Students that have not completed their basic skills exam
 s.";ROLE=REQ-PARTICIPANT:SEEK Students that have not completed their basic
  skills exams.
CATEGORIES:SEEK,student
CONTACT:Alicia Cesar\, 718-262-2300\, acesar@york.cuny.edu
CREATED:20180130T161252Z
DESCRIPTION:Mandatory skills workshop for SEEK students that have not comp
 leted their basic skills exams.
LAST-MODIFIED:20240209T205904Z
LOCATION:AC-1C04
URL:https://www.york.cuny.edu/seek/events/math-5-workshops
END:VEVENT
BEGIN:VTIMEZONE
TZID:America/New_York
X-LIC-LOCATION:America/New_York
BEGIN:STANDARD
DTSTART:20171105T010000
TZNAME:EST
TZOFFSETFROM:-0400
TZOFFSETTO:-0500
END:STANDARD
END:VTIMEZONE
END:VCALENDAR
