BEGIN:VCALENDAR
VERSION:2.0
PRODID:-//Plone.org//NONSGML plone.app.event//EN
X-WR-TIMEZONE:America/New_York
BEGIN:VEVENT
SUMMARY:Email Etiquette Workshop
DTSTART;TZID=America/New_York:20211123T123000
DTEND;TZID=America/New_York:20211123T133000
DTSTAMP:20260419T133450Z
UID:d586da3c6eb347a9a17a2a8c05e92ec4@172.16.140.7:8080
CATEGORIES:SEEK
CONTACT:Ojuolape Mayungbo\, OMayungbo@york.cuny.edu\, https://zoom.us/meet
 ing/register/tJUvdOCorz8jEt2ymnQ84VHMPDHRLn7Qot4_
CREATED:20211018T182546Z
DESCRIPTION:Writing emails to convey your message can be tedious at times\
 , but it doesn’t have to be! COOP Careers will share some best practices
  and email writing tips to help better prepare you for effective written c
 ommunication in the workforce.
LAST-MODIFIED:20240209T205827Z
LOCATION:Zoom
URL:https://www.york.cuny.edu/seek/events/email-etiquette
END:VEVENT
BEGIN:VTIMEZONE
TZID:America/New_York
X-LIC-LOCATION:America/New_York
BEGIN:STANDARD
DTSTART:20211107T010000
TZNAME:EST
TZOFFSETFROM:-0400
TZOFFSETTO:-0500
END:STANDARD
END:VTIMEZONE
END:VCALENDAR
