BEGIN:VCALENDAR
VERSION:2.0
PRODID:-//Plone.org//NONSGML plone.app.event//EN
X-WR-TIMEZONE:America/New_York
BEGIN:VEVENT
SUMMARY:NSSS - Organic Chemistry at Cambridge University
DTSTART;TZID=America/New_York:20130502T120000
DTEND;TZID=America/New_York:20130502T140000
DTSTAMP:20260421T073509Z
UID:fa7a5abdc2044ca39b87eefa1d35c5e5@172.16.140.7:8080
ATTENDEE;CN="All Are Welcome.";ROLE=REQ-PARTICIPANT:All Are Welcome.
CATEGORIES:Natural Science Seminar Series,Chemistry
CONTACT:Yolanda Small\, ysmall@york.cuny.edu
CREATED:20130221T193335Z
DESCRIPTION:Hosted by: Yolanda Small
LAST-MODIFIED:20170417T180101Z
LOCATION:AC-4M06
URL:https://www.york.cuny.edu/se/nsss/nsss-organic-chemistry-cambridge
END:VEVENT
BEGIN:VTIMEZONE
TZID:America/New_York
X-LIC-LOCATION:America/New_York
BEGIN:DAYLIGHT
DTSTART:20130310T030000
TZNAME:EDT
TZOFFSETFROM:-0500
TZOFFSETTO:-0400
END:DAYLIGHT
END:VTIMEZONE
END:VCALENDAR
