BEGIN:VCALENDAR
VERSION:2.0
PRODID:-//Plone.org//NONSGML plone.app.event//EN
X-WR-TIMEZONE:America/New_York
BEGIN:VEVENT
SUMMARY:Hour of Code at York
DTSTART;TZID=America/New_York:20171205T120000
DTEND;TZID=America/New_York:20171205T140000
DTSTAMP:20260420T214051Z
UID:50f2b45606db40cd919e0b80ddf0b921@172.16.140.7:8080
CATEGORIES:Biology,Business and Economics,student,Mathematics and Computer
  Science,Chemistry,Natural Science Seminar Series,Sociology
CONTACT:Yolanda Small\, 718-262-2592\, ysmall@york.cuny.edu\, https://www.
 york.cuny.edu/se/nsss
CREATED:20171129T225457Z
DESCRIPTION:The Chem and Pharm Sci Club is hosting an exciting event calle
 d the "Hour of Code" where you will learn how to write your own apps for y
 our phone.
LAST-MODIFIED:20171130T143415Z
LOCATION:AC-4M05
URL:https://www.york.cuny.edu/se/nsss/hour-of-code-at-york
END:VEVENT
BEGIN:VTIMEZONE
TZID:America/New_York
X-LIC-LOCATION:America/New_York
BEGIN:STANDARD
DTSTART:20171105T010000
TZNAME:EST
TZOFFSETFROM:-0400
TZOFFSETTO:-0500
END:STANDARD
END:VTIMEZONE
END:VCALENDAR
