BEGIN:VCALENDAR
VERSION:2.0
PRODID:-//Plone.org//NONSGML plone.app.event//EN
X-WR-TIMEZONE:America/New_York
BEGIN:VEVENT
SUMMARY:WN grades assigned
DTSTART;TZID=US/Eastern:20240215T000000
DTEND;TZID=US/Eastern:20240215T235900
DTSTAMP:20260420T184949Z
UID:002f951b2cda42fe9530df9898f3173d@172.16.140.7:8080
CATEGORIES:Academic Calendar,student,Spring
CREATED:20230907T173700Z
DESCRIPTION:WN grades assigned
LAST-MODIFIED:20230907T173709Z
URL:https://www.york.cuny.edu/registrar/calendar/wn-grades-assigned-1
END:VEVENT
BEGIN:VTIMEZONE
TZID:US/Eastern
X-LIC-LOCATION:US/Eastern
BEGIN:STANDARD
DTSTART:20231105T010000
TZNAME:EST
TZOFFSETFROM:-0400
TZOFFSETTO:-0500
END:STANDARD
END:VTIMEZONE
END:VCALENDAR
