BEGIN:VCALENDAR
VERSION:2.0
PRODID:-//Plone.org//NONSGML plone.app.event//EN
X-WR-TIMEZONE:America/New_York
BEGIN:VEVENT
SUMMARY:College is closed
DTSTART;TZID=America/New_York:20260101T000000
DTEND;TZID=America/New_York:20260101T235900
DTSTAMP:20260421T071047Z
UID:8eb8111f9fb44b3f89502abec16b425b@172.16.140.7:8080
CATEGORIES:Academic Calendar,student,Winter,2026
CREATED:20250612T125254Z
DESCRIPTION:. College is closed.
LAST-MODIFIED:20260120T192414Z
URL:https://www.york.cuny.edu/registrar/calendar/winter/college-is-closed-
 1
END:VEVENT
BEGIN:VTIMEZONE
TZID:America/New_York
X-LIC-LOCATION:America/New_York
BEGIN:STANDARD
DTSTART:20251102T010000
TZNAME:EST
TZOFFSETFROM:-0400
TZOFFSETTO:-0500
END:STANDARD
END:VTIMEZONE
END:VCALENDAR
