BEGIN:VCALENDAR
VERSION:2.0
PRODID:-//Plone.org//NONSGML plone.app.event//EN
X-WR-TIMEZONE:America/New_York
BEGIN:VEVENT
SUMMARY:R2T4 60% date for 4-Week 2 session
DTSTART;TZID=America/New_York:20260720T000000
DTEND;TZID=America/New_York:20260720T235900
DTSTAMP:20260421T112455Z
UID:23739ed3f1244672985f36fad0af1fcb@172.16.140.7:8080
CATEGORIES:Summer 4-Week 2,student,Academic Calendar
CREATED:20251114T151124Z
DESCRIPTION:R2T4 60% date for 4-Week 2 session
LAST-MODIFIED:20251114T151212Z
URL:https://www.york.cuny.edu/registrar/calendar/summer/r2t4-60-date-for-4
 -week-2-session-2
END:VEVENT
BEGIN:VTIMEZONE
TZID:America/New_York
X-LIC-LOCATION:America/New_York
BEGIN:DAYLIGHT
DTSTART:20260308T030000
TZNAME:EDT
TZOFFSETFROM:-0500
TZOFFSETTO:-0400
END:DAYLIGHT
END:VTIMEZONE
END:VCALENDAR
