BEGIN:VCALENDAR
VERSION:2.0
PRODID:-//Plone.org//NONSGML plone.app.event//EN
X-WR-TIMEZONE:America/New_York
BEGIN:VEVENT
SUMMARY:R2T4 60% date for 4-Week 1 session
DTSTART:20240617T155900Z
DTEND:20240617T160000Z
DTSTAMP:20260421T125148Z
UID:81cb6571fc304598b9abbb86058c63f0@172.16.140.7:8080
CATEGORIES:Summer 4-Week 1,student,Academic Calendar
CREATED:20240306T184905Z
DESCRIPTION:R2T4 60% date for 4-Week 1 session
LAST-MODIFIED:20240306T185212Z
URL:https://www.york.cuny.edu/registrar/calendar/summer/r2t4-60-date-for-4
 -week-1-session
END:VEVENT
END:VCALENDAR
