BEGIN:VCALENDAR
VERSION:2.0
PRODID:-//Plone.org//NONSGML plone.app.event//EN
X-WR-TIMEZONE:America/New_York
BEGIN:VEVENT
SUMMARY:R2T4 60% date for 10-Week session
DTSTART:20240717T040000Z
DTEND:20240718T035900Z
DTSTAMP:20260421T110524Z
UID:7b5e6b53d56741b9a1c4a3fb3ea86c57@172.16.140.7:8080
CATEGORIES:student,Academic Calendar,Summer 10-Week
CREATED:20240307T151322Z
DESCRIPTION:R2T4 60% date for 10-Week session
LAST-MODIFIED:20240307T151328Z
URL:https://www.york.cuny.edu/registrar/calendar/summer/r2t4-60-date-for-1
 0-week-session
END:VEVENT
END:VCALENDAR
