BEGIN:VCALENDAR
VERSION:2.0
PRODID:-//Plone.org//NONSGML plone.app.event//EN
X-WR-TIMEZONE:America/New_York
BEGIN:VEVENT
SUMMARY:Final grade submission deadline for 7-Week 1 session
DTSTART:20240730T040000Z
DTEND:20240731T035900Z
DTSTAMP:20260421T142522Z
UID:6b38a6396fa74001b9e6d6eca523da48@172.16.140.7:8080
CATEGORIES:student,Summer 7-Week 1,Academic Calendar
CREATED:20240307T150841Z
DESCRIPTION:Final grade submission deadline for 7-Week 1 session
LAST-MODIFIED:20240307T150847Z
URL:https://www.york.cuny.edu/registrar/calendar/summer/final-grade-submis
 sion-deadline-for-7-week-1-session
END:VEVENT
END:VCALENDAR
