BEGIN:VCALENDAR
VERSION:2.0
PRODID:-//Plone.org//NONSGML plone.app.event//EN
X-WR-TIMEZONE:America/New_York
BEGIN:VEVENT
SUMMARY:WN Grades assigned
DTSTART;TZID=America/New_York:20260216T000000
DTEND;TZID=America/New_York:20260216T235900
DTSTAMP:20260420T083214Z
UID:73e5746c36294993b5855421c4114384@172.16.140.7:8080
CATEGORIES:Academic Calendar,student,Spring,2026
CREATED:20250612T142814Z
DESCRIPTION:WN Grades assigned
LAST-MODIFIED:20260106T203211Z
URL:https://www.york.cuny.edu/registrar/calendar/spring/wn-grades-assigned
END:VEVENT
BEGIN:VTIMEZONE
TZID:America/New_York
X-LIC-LOCATION:America/New_York
BEGIN:STANDARD
DTSTART:20251102T010000
TZNAME:EST
TZOFFSETFROM:-0400
TZOFFSETTO:-0500
END:STANDARD
END:VTIMEZONE
END:VCALENDAR
