BEGIN:VCALENDAR
VERSION:2.0
PRODID:-//Plone.org//NONSGML plone.app.event//EN
X-WR-TIMEZONE:America/New_York
BEGIN:VEVENT
SUMMARY:Spring Recess – No classes scheduled
DTSTART:20250420T040000Z
DTEND:20250421T035900Z
DTSTAMP:20260420T233851Z
UID:b2fe21053a3549cf996fb788431491a1@172.16.140.7:8080
CATEGORIES:Spring,student,Academic Calendar
CREATED:20240702T204612Z
DESCRIPTION:Spring Recess – No classes scheduled
LAST-MODIFIED:20240703T165334Z
URL:https://www.york.cuny.edu/registrar/calendar/spring/spring-recess-no-c
 lasses-scheduled-8
END:VEVENT
END:VCALENDAR
