BEGIN:VCALENDAR
VERSION:2.0
PRODID:-//Plone.org//NONSGML plone.app.event//EN
X-WR-TIMEZONE:America/New_York
BEGIN:VEVENT
SUMMARY:Spring Recess – No classes scheduled
DTSTART:20250414T040000Z
DTEND:20250415T035900Z
DTSTAMP:20260420T215222Z
UID:58332d6b87fa45568553013c2c804a53@172.16.140.7:8080
CATEGORIES:Spring,student,Academic Calendar
CREATED:20240702T203734Z
DESCRIPTION:Spring Recess – No classes scheduled
LAST-MODIFIED:20240703T165141Z
URL:https://www.york.cuny.edu/registrar/calendar/spring/spring-recess-no-c
 lasses-scheduled-2
END:VEVENT
END:VCALENDAR
