BEGIN:VCALENDAR
VERSION:2.0
PRODID:-//Plone.org//NONSGML plone.app.event//EN
X-WR-TIMEZONE:America/New_York
BEGIN:VEVENT
SUMMARY:Spring Recess – No classes scheduled
DTSTART;TZID=America/New_York:20260405T000000
DTEND;TZID=America/New_York:20260405T235900
DTSTAMP:20260420T200439Z
UID:0e2c3a22083b4e9c8099f305ef7d74ab@172.16.140.7:8080
CATEGORIES:Spring,2026,student,Academic Calendar
CREATED:20250701T175311Z
DESCRIPTION:Spring Recess – No classes scheduled
LAST-MODIFIED:20250904T143907Z
URL:https://www.york.cuny.edu/registrar/calendar/spring/spring-recess-no-c
 lasses-scheduled-13
END:VEVENT
BEGIN:VTIMEZONE
TZID:America/New_York
X-LIC-LOCATION:America/New_York
BEGIN:DAYLIGHT
DTSTART:20260308T030000
TZNAME:EDT
TZOFFSETFROM:-0500
TZOFFSETTO:-0400
END:DAYLIGHT
END:VTIMEZONE
END:VCALENDAR
