BEGIN:VCALENDAR
VERSION:2.0
PRODID:-//Plone.org//NONSGML plone.app.event//EN
X-WR-TIMEZONE:America/New_York
BEGIN:VEVENT
SUMMARY:R2T4 60% date for the term
DTSTART:20250331T040000Z
DTEND:20250401T035900Z
DTSTAMP:20260421T042330Z
UID:0b0a5dc39c3f4c67af50d164c44855e0@172.16.140.7:8080
CATEGORIES:Spring,student,Academic Calendar
CREATED:20240702T202615Z
DESCRIPTION:R2T4 60% date for the term
LAST-MODIFIED:20240702T202622Z
URL:https://www.york.cuny.edu/registrar/calendar/spring/r2t4-60-date-for-t
 he-term
END:VEVENT
END:VCALENDAR
