BEGIN:VCALENDAR
VERSION:2.0
PRODID:-//Plone.org//NONSGML plone.app.event//EN
X-WR-TIMEZONE:America/New_York
BEGIN:VEVENT
SUMMARY:No classes scheduled
DTSTART;TZID=America/New_York:20260320T000000
DTEND;TZID=America/New_York:20260320T235900
DTSTAMP:20260420T161232Z
UID:30be4a54bc544e7db1264c8affb434d9@172.16.140.7:8080
CATEGORIES:Academic Calendar,student,Spring,2026
CREATED:20250612T144824Z
DESCRIPTION:No classes scheduled
LAST-MODIFIED:20260106T202544Z
URL:https://www.york.cuny.edu/registrar/calendar/spring/no-classes-schedul
 ed-3
END:VEVENT
BEGIN:VTIMEZONE
TZID:America/New_York
X-LIC-LOCATION:America/New_York
BEGIN:DAYLIGHT
DTSTART:20260308T030000
TZNAME:EDT
TZOFFSETFROM:-0500
TZOFFSETTO:-0400
END:DAYLIGHT
END:VTIMEZONE
END:VCALENDAR
