BEGIN:VCALENDAR
VERSION:2.0
PRODID:-//Plone.org//NONSGML plone.app.event//EN
X-WR-TIMEZONE:America/New_York
BEGIN:VEVENT
SUMMARY:Midterm Assessment Period
DTSTART:20250321T040000Z
DTEND:20250322T035900Z
DTSTAMP:20260421T022023Z
UID:712757b81c9e4658ae07d95d94c3dcf8@172.16.140.7:8080
CATEGORIES:Spring,student,Academic Calendar
CREATED:20240702T202441Z
DESCRIPTION:Midterm Assessment Period
LAST-MODIFIED:20240703T164912Z
URL:https://www.york.cuny.edu/registrar/calendar/spring/midterm-assessment
 -period-7
END:VEVENT
END:VCALENDAR
