BEGIN:VCALENDAR
VERSION:2.0
PRODID:-//Plone.org//NONSGML plone.app.event//EN
X-WR-TIMEZONE:America/New_York
BEGIN:VEVENT
SUMMARY:Midterm Assessment Period
DTSTART:20250319T040000Z
DTEND:20250320T035900Z
DTSTAMP:20260421T031636Z
UID:abf17d65360645c28a4e7c3b4f087415@172.16.140.7:8080
CATEGORIES:Spring,student,Academic Calendar
CREATED:20240702T202127Z
DESCRIPTION:Midterm Assessment Period
LAST-MODIFIED:20240703T164836Z
URL:https://www.york.cuny.edu/registrar/calendar/spring/midterm-assessment
 -period-5
END:VEVENT
END:VCALENDAR
