BEGIN:VCALENDAR
VERSION:2.0
PRODID:-//Plone.org//NONSGML plone.app.event//EN
X-WR-TIMEZONE:America/New_York
BEGIN:VEVENT
SUMMARY:Final Examinations
DTSTART:20250516T040000Z
DTEND:20250517T035900Z
DTSTAMP:20260420T085126Z
UID:1777bd8a28c94bf68bd74e2f90fcc794@172.16.140.7:8080
CATEGORIES:Spring,student,Academic Calendar
CREATED:20240702T205906Z
DESCRIPTION:Final Examinations
LAST-MODIFIED:20240703T165633Z
URL:https://www.york.cuny.edu/registrar/calendar/spring/final-examinations
END:VEVENT
END:VCALENDAR
